BEGIN:VCALENDAR
VERSION:2.0
PRODID:-//aabutte-glenn.org - ECPv6.15.20//NONSGML v1.0//EN
CALSCALE:GREGORIAN
METHOD:PUBLISH
X-WR-CALNAME:aabutte-glenn.org
X-ORIGINAL-URL:https://aabutte-glenn.org
X-WR-CALDESC:Events for aabutte-glenn.org
REFRESH-INTERVAL;VALUE=DURATION:PT1H
X-Robots-Tag:noindex
X-PUBLISHED-TTL:PT1H
BEGIN:VTIMEZONE
TZID:America/Los_Angeles
BEGIN:DAYLIGHT
TZOFFSETFROM:-0800
TZOFFSETTO:-0700
TZNAME:PDT
DTSTART:20240310T100000
END:DAYLIGHT
BEGIN:STANDARD
TZOFFSETFROM:-0700
TZOFFSETTO:-0800
TZNAME:PST
DTSTART:20241103T090000
END:STANDARD
BEGIN:DAYLIGHT
TZOFFSETFROM:-0800
TZOFFSETTO:-0700
TZNAME:PDT
DTSTART:20250309T100000
END:DAYLIGHT
BEGIN:STANDARD
TZOFFSETFROM:-0700
TZOFFSETTO:-0800
TZNAME:PST
DTSTART:20251102T090000
END:STANDARD
BEGIN:DAYLIGHT
TZOFFSETFROM:-0800
TZOFFSETTO:-0700
TZNAME:PDT
DTSTART:20260308T100000
END:DAYLIGHT
BEGIN:STANDARD
TZOFFSETFROM:-0700
TZOFFSETTO:-0800
TZNAME:PST
DTSTART:20261101T090000
END:STANDARD
END:VTIMEZONE
BEGIN:VEVENT
DTSTART;TZID=America/Los_Angeles:20251004T100000
DTEND;TZID=America/Los_Angeles:20251004T160000
DTSTAMP:20260419T211753
CREATED:20250719T164345Z
LAST-MODIFIED:20250719T164648Z
UID:1837-1759572000-1759593600@aabutte-glenn.org
SUMMARY:Service Workshop
DESCRIPTION:DISTRICT 15 – Serving Butte\, Glenn\, and Southern Tehama Counties\nInvites you to our Service Workshop\nOCTOBER 4\, 2025 10:00 A.M. To 4:00 P.M.\nPotluck lunch at noon; please bring a dish to share \nHope Commons Church\n1184 East Avenue\nChico\, CA 95926\nPark in the rear on the left hand side of the building\nCNIA Area Officers and Area Committee Chairs will be presenting on H&I\, BTG\, Accessibilities\, GSR School\, PI/CPC\, Finance and Grapevine Writing. \n \nService workshop flyer Oct 2025
URL:https://aabutte-glenn.org/event/service-workshop/
LOCATION:Hope Commons Church\, 1184 East Ave\, Chico\, CA\, 95926\, United States
CATEGORIES:Workshops
END:VEVENT
END:VCALENDAR